BEGIN:VCALENDAR
VERSION:2.0
PRODID:-//Lewisham - ECPv6.15.20//NONSGML v1.0//EN
CALSCALE:GREGORIAN
METHOD:PUBLISH
X-WR-CALNAME:Lewisham
X-ORIGINAL-URL:https://lewishamscouts.org.uk
X-WR-CALDESC:Events for Lewisham
REFRESH-INTERVAL;VALUE=DURATION:PT1H
X-Robots-Tag:noindex
X-PUBLISHED-TTL:PT1H
BEGIN:VTIMEZONE
TZID:Europe/London
BEGIN:DAYLIGHT
TZOFFSETFROM:+0000
TZOFFSETTO:+0100
TZNAME:BST
DTSTART:20220327T010000
END:DAYLIGHT
BEGIN:STANDARD
TZOFFSETFROM:+0100
TZOFFSETTO:+0000
TZNAME:GMT
DTSTART:20221030T010000
END:STANDARD
BEGIN:DAYLIGHT
TZOFFSETFROM:+0000
TZOFFSETTO:+0100
TZNAME:BST
DTSTART:20230326T010000
END:DAYLIGHT
BEGIN:STANDARD
TZOFFSETFROM:+0100
TZOFFSETTO:+0000
TZNAME:GMT
DTSTART:20231029T010000
END:STANDARD
BEGIN:DAYLIGHT
TZOFFSETFROM:+0000
TZOFFSETTO:+0100
TZNAME:BST
DTSTART:20240331T010000
END:DAYLIGHT
BEGIN:STANDARD
TZOFFSETFROM:+0100
TZOFFSETTO:+0000
TZNAME:GMT
DTSTART:20241027T010000
END:STANDARD
END:VTIMEZONE
BEGIN:VEVENT
DTSTART;TZID=Europe/London:20230519T180000
DTEND;TZID=Europe/London:20230519T210000
DTSTAMP:20260421T121537
CREATED:20221114T173032Z
LAST-MODIFIED:20221114T194932Z
UID:3480-1684519200-1684530000@lewishamscouts.org.uk
SUMMARY:Activity Evenings (Squirrels\, Beavers and Cubs)
DESCRIPTION:
URL:https://lewishamscouts.org.uk/calendar/activity-evenings-squirrels-beavers-and-cubs/
LOCATION:Frylands Wood Scout Outdoor Centre\, Featherbed Lane\, CR0 9AA\, United Kingdom
CATEGORIES:All Lewisham Events,Beaver Scouts,Cub Scouts,Frylands Wood,Lewisham Scouts,Squirrel Scouts
END:VEVENT
END:VCALENDAR